BEGIN:VCALENDAR
VERSION:2.0
PRODID:-//Actuarial Association of Europe - ECPv6.15.17.1//NONSGML v1.0//EN
CALSCALE:GREGORIAN
METHOD:PUBLISH
X-ORIGINAL-URL:https://actuary.eu
X-WR-CALDESC:Events for Actuarial Association of Europe
REFRESH-INTERVAL;VALUE=DURATION:PT1H
X-Robots-Tag:noindex
X-PUBLISHED-TTL:PT1H
BEGIN:VTIMEZONE
TZID:Europe/Amsterdam
BEGIN:DAYLIGHT
TZOFFSETFROM:+0100
TZOFFSETTO:+0200
TZNAME:CEST
DTSTART:20230326T010000
END:DAYLIGHT
BEGIN:STANDARD
TZOFFSETFROM:+0200
TZOFFSETTO:+0100
TZNAME:CET
DTSTART:20231029T010000
END:STANDARD
BEGIN:DAYLIGHT
TZOFFSETFROM:+0100
TZOFFSETTO:+0200
TZNAME:CEST
DTSTART:20240331T010000
END:DAYLIGHT
BEGIN:STANDARD
TZOFFSETFROM:+0200
TZOFFSETTO:+0100
TZNAME:CET
DTSTART:20241027T010000
END:STANDARD
BEGIN:DAYLIGHT
TZOFFSETFROM:+0100
TZOFFSETTO:+0200
TZNAME:CEST
DTSTART:20250330T010000
END:DAYLIGHT
BEGIN:STANDARD
TZOFFSETFROM:+0200
TZOFFSETTO:+0100
TZNAME:CET
DTSTART:20251026T010000
END:STANDARD
END:VTIMEZONE
BEGIN:VEVENT
DTSTART;TZID=Europe/Amsterdam:20240308T090000
DTEND;TZID=Europe/Amsterdam:20240308T103000
DTSTAMP:20260420T232707
CREATED:20240327T192004Z
LAST-MODIFIED:20240627T130325Z
UID:10000373-1709888400-1709893800@actuary.eu
SUMMARY:AAE Webinar: Social Sustainability in Insurance: What\, Who and How
DESCRIPTION:Organised by the AAE Risk Management Committee and the Sustainability and Climate-related Risks Working Group. \nThe programme is available here. \nRegistration is closed.
URL:https://actuary.eu/event/aae-webinar-social-sustainability-in-insurance-what-who-and-how/
CATEGORIES:AAE
ATTACH;FMTTYPE=image/jpeg:https://actuary.eu/wp-content/uploads/2024/03/AAE-globe-uSBHSi.tmp_-e1720102347714.jpg
END:VEVENT
END:VCALENDAR