BEGIN:VCALENDAR
VERSION:2.0
PRODID:-//Actuarial Association of Europe - ECPv6.15.17.1//NONSGML v1.0//EN
CALSCALE:GREGORIAN
METHOD:PUBLISH
X-WR-CALNAME:Actuarial Association of Europe
X-ORIGINAL-URL:https://actuary.eu
X-WR-CALDESC:Events for Actuarial Association of Europe
REFRESH-INTERVAL;VALUE=DURATION:PT1H
X-Robots-Tag:noindex
X-PUBLISHED-TTL:PT1H
BEGIN:VTIMEZONE
TZID:Europe/Brussels
BEGIN:DAYLIGHT
TZOFFSETFROM:+0100
TZOFFSETTO:+0200
TZNAME:CEST
DTSTART:20230326T010000
END:DAYLIGHT
BEGIN:STANDARD
TZOFFSETFROM:+0200
TZOFFSETTO:+0100
TZNAME:CET
DTSTART:20231029T010000
END:STANDARD
BEGIN:DAYLIGHT
TZOFFSETFROM:+0100
TZOFFSETTO:+0200
TZNAME:CEST
DTSTART:20240331T010000
END:DAYLIGHT
BEGIN:STANDARD
TZOFFSETFROM:+0200
TZOFFSETTO:+0100
TZNAME:CET
DTSTART:20241027T010000
END:STANDARD
BEGIN:DAYLIGHT
TZOFFSETFROM:+0100
TZOFFSETTO:+0200
TZNAME:CEST
DTSTART:20250330T010000
END:DAYLIGHT
BEGIN:STANDARD
TZOFFSETFROM:+0200
TZOFFSETTO:+0100
TZNAME:CET
DTSTART:20251026T010000
END:STANDARD
END:VTIMEZONE
BEGIN:VEVENT
DTSTART;TZID=Europe/Brussels:20240902T140000
DTEND;TZID=Europe/Brussels:20240902T143000
DTSTAMP:20260420T134246
CREATED:20250211T105001Z
LAST-MODIFIED:20250211T105001Z
UID:10000449-1725285600-1725287400@actuary.eu
SUMMARY:Meeting CRO Forum - AAE
DESCRIPTION:
URL:https://actuary.eu/event/meeting-cro-forum-aae/
CATEGORIES:AAE
ATTACH;FMTTYPE=image/png:https://actuary.eu/wp-content/uploads/2025/02/logo-CRO-Forum.png
END:VEVENT
BEGIN:VEVENT
DTSTART;TZID=Europe/Brussels:20240917T100000
DTEND;TZID=Europe/Brussels:20240917T120000
DTSTAMP:20260420T134246
CREATED:20240718T095227Z
LAST-MODIFIED:20240911T094726Z
UID:10000402-1726567200-1726574400@actuary.eu
SUMMARY:AAE Webinar: What Should an actuary know about AI
DESCRIPTION:Organised by the Artificial Intelligence and Data Science Working Group on behalf of the AAE Professionalism Committee. \nThe programme is available here. \nPlease register here. 
URL:https://actuary.eu/event/aae-webinar-what-should-an-actuary-know-about-ai/
CATEGORIES:AAE
ATTACH;FMTTYPE=image/svg+xml:https://actuary.eu/wp-content/uploads/2024/04/AAE-logo-smal-social.svg
ORGANIZER;CN="AAE":MAILTO:info@actuary.eu
END:VEVENT
END:VCALENDAR