BEGIN:VCALENDAR
VERSION:2.0
PRODID:-//Actuarial Association of Europe - ECPv6.15.17.1//NONSGML v1.0//EN
CALSCALE:GREGORIAN
METHOD:PUBLISH
X-WR-CALNAME:Actuarial Association of Europe
X-ORIGINAL-URL:https://actuary.eu
X-WR-CALDESC:Events for Actuarial Association of Europe
REFRESH-INTERVAL;VALUE=DURATION:PT1H
X-Robots-Tag:noindex
X-PUBLISHED-TTL:PT1H
BEGIN:VTIMEZONE
TZID:Europe/Brussels
BEGIN:DAYLIGHT
TZOFFSETFROM:+0100
TZOFFSETTO:+0200
TZNAME:CEST
DTSTART:20230326T010000
END:DAYLIGHT
BEGIN:STANDARD
TZOFFSETFROM:+0200
TZOFFSETTO:+0100
TZNAME:CET
DTSTART:20231029T010000
END:STANDARD
BEGIN:DAYLIGHT
TZOFFSETFROM:+0100
TZOFFSETTO:+0200
TZNAME:CEST
DTSTART:20240331T010000
END:DAYLIGHT
BEGIN:STANDARD
TZOFFSETFROM:+0200
TZOFFSETTO:+0100
TZNAME:CET
DTSTART:20241027T010000
END:STANDARD
BEGIN:DAYLIGHT
TZOFFSETFROM:+0100
TZOFFSETTO:+0200
TZNAME:CEST
DTSTART:20250330T010000
END:DAYLIGHT
BEGIN:STANDARD
TZOFFSETFROM:+0200
TZOFFSETTO:+0100
TZNAME:CET
DTSTART:20251026T010000
END:STANDARD
END:VTIMEZONE
BEGIN:VEVENT
DTSTART;TZID=Europe/Brussels:20241206T100000
DTEND;TZID=Europe/Brussels:20241206T120000
DTSTAMP:20260420T083515
CREATED:20241029T161546Z
LAST-MODIFIED:20241104T151659Z
UID:10000428-1733479200-1733486400@actuary.eu
SUMMARY:AAE Webinar: Solvency II Review\, where are we now and what is expected
DESCRIPTION:Organised by the Insurance Committee \nPlease register here. \n  \nView or download the program here. \n 
URL:https://actuary.eu/event/aae-webinar-solvency-ii-review-where-are-we-now-and-what-is-expected/
LOCATION:Virtual
CATEGORIES:AAE
ATTACH;FMTTYPE=image/svg+xml:https://actuary.eu/wp-content/uploads/2024/04/AAE-logo-smal-social.svg
ORGANIZER;CN="AAE":MAILTO:info@actuary.eu
END:VEVENT
BEGIN:VEVENT
DTSTART;TZID=Europe/Brussels:20241211T130000
DTEND;TZID=Europe/Brussels:20241211T153000
DTSTAMP:20260420T083515
CREATED:20250211T105819Z
LAST-MODIFIED:20250211T105819Z
UID:10000454-1733922000-1733931000@actuary.eu
SUMMARY:AAE Board meeting
DESCRIPTION:
URL:https://actuary.eu/event/aae-board-meeting-dec-2024/
CATEGORIES:AAE
ATTACH;FMTTYPE=image/png:https://actuary.eu/wp-content/uploads/2024/04/cropped-globe.png
ORGANIZER;CN="AAE":MAILTO:info@actuary.eu
END:VEVENT
END:VCALENDAR