BEGIN:VCALENDAR
VERSION:2.0
PRODID:-//Actuarial Association of Europe - ECPv6.15.17.1//NONSGML v1.0//EN
CALSCALE:GREGORIAN
METHOD:PUBLISH
X-WR-CALNAME:Actuarial Association of Europe
X-ORIGINAL-URL:https://actuary.eu
X-WR-CALDESC:Events for Actuarial Association of Europe
REFRESH-INTERVAL;VALUE=DURATION:PT1H
X-Robots-Tag:noindex
X-PUBLISHED-TTL:PT1H
BEGIN:VTIMEZONE
TZID:Europe/Brussels
BEGIN:DAYLIGHT
TZOFFSETFROM:+0100
TZOFFSETTO:+0200
TZNAME:CEST
DTSTART:20240331T010000
END:DAYLIGHT
BEGIN:STANDARD
TZOFFSETFROM:+0200
TZOFFSETTO:+0100
TZNAME:CET
DTSTART:20241027T010000
END:STANDARD
BEGIN:DAYLIGHT
TZOFFSETFROM:+0100
TZOFFSETTO:+0200
TZNAME:CEST
DTSTART:20250330T010000
END:DAYLIGHT
BEGIN:STANDARD
TZOFFSETFROM:+0200
TZOFFSETTO:+0100
TZNAME:CET
DTSTART:20251026T010000
END:STANDARD
BEGIN:DAYLIGHT
TZOFFSETFROM:+0100
TZOFFSETTO:+0200
TZNAME:CEST
DTSTART:20260329T010000
END:DAYLIGHT
BEGIN:STANDARD
TZOFFSETFROM:+0200
TZOFFSETTO:+0100
TZNAME:CET
DTSTART:20261025T010000
END:STANDARD
END:VTIMEZONE
BEGIN:VEVENT
DTSTART;TZID=Europe/Brussels:20250211T140000
DTEND;TZID=Europe/Brussels:20250211T160000
DTSTAMP:20260420T053804
CREATED:20250211T102538Z
LAST-MODIFIED:20250211T104216Z
UID:10000443-1739282400-1739289600@actuary.eu
SUMMARY:Meeting Insurance Europe - AAE
DESCRIPTION:
URL:https://actuary.eu/event/meeting-insurance-europe-aae/
LOCATION:IE Brussels\, Insurance Europe\, Rue du Champ de Mars 23\, Brussels\, 1050\, Belgium
CATEGORIES:AAE
ATTACH;FMTTYPE=image/jpeg:https://actuary.eu/wp-content/uploads/2025/02/logo-Insurance-Europe.jpg
ORGANIZER;CN="AAE":MAILTO:info@actuary.eu
END:VEVENT
BEGIN:VEVENT
DTSTART;TZID=Europe/Brussels:20250212T130000
DTEND;TZID=Europe/Brussels:20250212T153000
DTSTAMP:20260420T053804
CREATED:20250211T102651Z
LAST-MODIFIED:20250211T102908Z
UID:10000444-1739365200-1739374200@actuary.eu
SUMMARY:AAE Board meeting
DESCRIPTION:
URL:https://actuary.eu/event/aae-board-meeting_feb2025/
CATEGORIES:AAE
ATTACH;FMTTYPE=image/png:https://actuary.eu/wp-content/uploads/2024/04/cropped-globe.png
END:VEVENT
END:VCALENDAR