BEGIN:VCALENDAR
VERSION:2.0
PRODID:-//Actuarial Association of Europe - ECPv6.15.17.1//NONSGML v1.0//EN
CALSCALE:GREGORIAN
METHOD:PUBLISH
X-WR-CALNAME:Actuarial Association of Europe
X-ORIGINAL-URL:https://actuary.eu
X-WR-CALDESC:Events for Actuarial Association of Europe
REFRESH-INTERVAL;VALUE=DURATION:PT1H
X-Robots-Tag:noindex
X-PUBLISHED-TTL:PT1H
BEGIN:VTIMEZONE
TZID:Europe/Brussels
BEGIN:DAYLIGHT
TZOFFSETFROM:+0100
TZOFFSETTO:+0200
TZNAME:CEST
DTSTART:20240331T010000
END:DAYLIGHT
BEGIN:STANDARD
TZOFFSETFROM:+0200
TZOFFSETTO:+0100
TZNAME:CET
DTSTART:20241027T010000
END:STANDARD
BEGIN:DAYLIGHT
TZOFFSETFROM:+0100
TZOFFSETTO:+0200
TZNAME:CEST
DTSTART:20250330T010000
END:DAYLIGHT
BEGIN:STANDARD
TZOFFSETFROM:+0200
TZOFFSETTO:+0100
TZNAME:CET
DTSTART:20251026T010000
END:STANDARD
BEGIN:DAYLIGHT
TZOFFSETFROM:+0100
TZOFFSETTO:+0200
TZNAME:CEST
DTSTART:20260329T010000
END:DAYLIGHT
BEGIN:STANDARD
TZOFFSETFROM:+0200
TZOFFSETTO:+0100
TZNAME:CET
DTSTART:20261025T010000
END:STANDARD
END:VTIMEZONE
BEGIN:VEVENT
DTSTART;TZID=Europe/Brussels:20251103T093000
DTEND;TZID=Europe/Brussels:20251103T123000
DTSTAMP:20260419T145158
CREATED:20250904T151023Z
LAST-MODIFIED:20250904T151023Z
UID:10000508-1762162200-1762173000@actuary.eu
SUMMARY:European Actuarial Day (EAD) 2025
DESCRIPTION:Virtual
URL:https://actuary.eu/event/european-actuarial-day-ead-2025/
CATEGORIES:AAE
ORGANIZER;CN="AAE":MAILTO:info@actuary.eu
END:VEVENT
BEGIN:VEVENT
DTSTART;TZID=Europe/Brussels:20251104T153000
DTEND;TZID=Europe/Brussels:20251104T173000
DTSTAMP:20260419T145158
CREATED:20250904T134545Z
LAST-MODIFIED:20250904T134545Z
UID:10000504-1762270200-1762277400@actuary.eu
SUMMARY:Meeting AAE-Pensions Europe
DESCRIPTION:Virtual
URL:https://actuary.eu/event/meeting-aae-pensions-europe/
CATEGORIES:AAE
ORGANIZER;CN="AAE":MAILTO:info@actuary.eu
END:VEVENT
BEGIN:VEVENT
DTSTART;TZID=Europe/Brussels:20251113T100000
DTEND;TZID=Europe/Brussels:20251113T120000
DTSTAMP:20260419T145158
CREATED:20250428T145103Z
LAST-MODIFIED:20260203T100437Z
UID:10000479-1763028000-1763035200@actuary.eu
SUMMARY:AAE Webinar 'How can we Defend the Public Pension Systems?'
DESCRIPTION:Organised by the AAE Social Security Subcommittee \n  \nRegistration is CLOSED \nPlease find the program here \n  \nThe purpose of this webinar is to follow-up on the topic of “How can we defend the Public Pension Systems”\, as discussed at the Social Security Forum\, Panel 2\, held on 2 November 2023. \nKeynote speaker is Mr. André Picard\, Chief Technical Adviser and Head of Unit Social Protection Department / Actuarial Services Unit at the International Labour Organization. Mr. Picard participated in the 2nd panel discussion at the Social Security Forum covering “How can we defend the Public Pension Systems”. \n\nFeatured Speakers:\nIn addition to Mr. André Picard\, we are pleased to announce the contribution of:\nMs. Jan Claisse\, Head of Pensions Policy and Social Security at the UK Government Actuary’s Department\nMs. Maria Economou\, Chairperson AAE Social Security Subcommittee\nMs. Tatiana Bitunska\, Chairperson AAE Pensions Committee \nModerator:\nMeeri Kesälä\, Chairperson Methodology and Projections WG
URL:https://actuary.eu/event/aae-webinar-how-can-we-defend-the-public-pension-systems/
CATEGORIES:AAE
ATTACH;FMTTYPE=image/png:https://actuary.eu/wp-content/uploads/2024/04/cropped-globe.png
ORGANIZER;CN="AAE":MAILTO:info@actuary.eu
END:VEVENT
BEGIN:VEVENT
DTSTART;TZID=Europe/Brussels:20251126T130000
DTEND;TZID=Europe/Brussels:20251126T153000
DTSTAMP:20260419T145158
CREATED:20250904T135036Z
LAST-MODIFIED:20250904T135036Z
UID:10000506-1764162000-1764171000@actuary.eu
SUMMARY:AAE Board meeting
DESCRIPTION:Virtual
URL:https://actuary.eu/event/aae-board-meeting-8/
CATEGORIES:AAE
ORGANIZER;CN="AAE":MAILTO:info@actuary.eu
END:VEVENT
END:VCALENDAR