BEGIN:VCALENDAR
VERSION:2.0
PRODID:-//Actuarial Association of Europe - ECPv6.15.17.1//NONSGML v1.0//EN
CALSCALE:GREGORIAN
METHOD:PUBLISH
X-WR-CALNAME:Actuarial Association of Europe
X-ORIGINAL-URL:https://actuary.eu
X-WR-CALDESC:Events for Actuarial Association of Europe
REFRESH-INTERVAL;VALUE=DURATION:PT1H
X-Robots-Tag:noindex
X-PUBLISHED-TTL:PT1H
BEGIN:VTIMEZONE
TZID:Europe/Amsterdam
BEGIN:DAYLIGHT
TZOFFSETFROM:+0100
TZOFFSETTO:+0200
TZNAME:CEST
DTSTART:20210328T010000
END:DAYLIGHT
BEGIN:STANDARD
TZOFFSETFROM:+0200
TZOFFSETTO:+0100
TZNAME:CET
DTSTART:20211031T010000
END:STANDARD
BEGIN:DAYLIGHT
TZOFFSETFROM:+0100
TZOFFSETTO:+0200
TZNAME:CEST
DTSTART:20220327T010000
END:DAYLIGHT
BEGIN:STANDARD
TZOFFSETFROM:+0200
TZOFFSETTO:+0100
TZNAME:CET
DTSTART:20221030T010000
END:STANDARD
BEGIN:DAYLIGHT
TZOFFSETFROM:+0100
TZOFFSETTO:+0200
TZNAME:CEST
DTSTART:20230326T010000
END:DAYLIGHT
BEGIN:STANDARD
TZOFFSETFROM:+0200
TZOFFSETTO:+0100
TZNAME:CET
DTSTART:20231029T010000
END:STANDARD
END:VTIMEZONE
BEGIN:VEVENT
DTSTART;TZID=Europe/Amsterdam:20220303T090000
DTEND;TZID=Europe/Amsterdam:20220304T110000
DTSTAMP:20260422T180700
CREATED:20240327T191219Z
LAST-MODIFIED:20240410T113047Z
UID:10000221-1646298000-1646391600@actuary.eu
SUMMARY:EAA Web Session: Operational Risk for Actuaries
DESCRIPTION:Organised by the EAA – European Actuarial Academy GmbH.
URL:https://actuary.eu/event/eaa-web-session-operational-risk-for-actuaries-2/
CATEGORIES:EAA
ATTACH;FMTTYPE=image/jpeg:https://actuary.eu/wp-content/uploads/2024/03/virtual-event-1-scaled-H6FpHd.tmp_.jpg
END:VEVENT
BEGIN:VEVENT
DTSTART;TZID=Europe/Amsterdam:20220308T090000
DTEND;TZID=Europe/Amsterdam:20220308T110000
DTSTAMP:20260422T180700
CREATED:20240327T191135Z
LAST-MODIFIED:20240410T113247Z
UID:10000209-1646730000-1646737200@actuary.eu
SUMMARY:EAA Web Session: Introduction to Effective Visuals with ggplot2
DESCRIPTION:Organised by the EAA – European Actuarial Academy GmbH.
URL:https://actuary.eu/event/eaa-web-session-introduction-to-effective-visuals-with-ggplot2/
CATEGORIES:EAA
ATTACH;FMTTYPE=image/jpeg:https://actuary.eu/wp-content/uploads/2024/03/virtual-event-1-scaled-H6FpHd.tmp_.jpg
END:VEVENT
BEGIN:VEVENT
DTSTART;VALUE=DATE:20220309
DTEND;VALUE=DATE:20220311
DTSTAMP:20260422T180700
CREATED:20240327T191249Z
LAST-MODIFIED:20240410T112957Z
UID:10000231-1646784000-1646956799@actuary.eu
SUMMARY:EAA Web Session: ML Explainability in Actuarial Data Science: A Primer
DESCRIPTION:Organised by the EAA – European Actuarial Academy GmbH.
URL:https://actuary.eu/event/eaa-web-session-ml-explainability-in-actuarial-data-science-a-primer/
CATEGORIES:EAA
ATTACH;FMTTYPE=image/jpeg:https://actuary.eu/wp-content/uploads/2024/03/virtual-event-1-scaled-H6FpHd.tmp_.jpg
END:VEVENT
BEGIN:VEVENT
DTSTART;TZID=Europe/Amsterdam:20220314T090000
DTEND;TZID=Europe/Amsterdam:20220315T140000
DTSTAMP:20260422T180700
CREATED:20240327T191304Z
LAST-MODIFIED:20240410T112926Z
UID:10000237-1647248400-1647352800@actuary.eu
SUMMARY:EAA Web Session: An Introduction to Economic Scenario Generators and their Validation
DESCRIPTION:Organised by the EAA – European Actuarial Academy GmbH.
URL:https://actuary.eu/event/eaa-web-session-an-introduction-to-economic-scenario-generators-and-their-validation-2/
CATEGORIES:EAA
ATTACH;FMTTYPE=image/jpeg:https://actuary.eu/wp-content/uploads/2024/03/virtual-event-1-scaled-H6FpHd.tmp_.jpg
END:VEVENT
BEGIN:VEVENT
DTSTART;TZID=Europe/Amsterdam:20220316T080000
DTEND;TZID=Europe/Amsterdam:20220316T110000
DTSTAMP:20260422T180700
CREATED:20240327T191304Z
LAST-MODIFIED:20240410T112920Z
UID:10000235-1647417600-1647428400@actuary.eu
SUMMARY:EAA Web Session: Practical Machine Learning Applications in Finance and Insurance
DESCRIPTION:Organised by the EAA – European Actuarial Academy GmbH.
URL:https://actuary.eu/event/eaa-web-session-practical-machine-learning-applications-in-finance-and-insurance/
CATEGORIES:EAA
ATTACH;FMTTYPE=image/jpeg:https://actuary.eu/wp-content/uploads/2024/03/virtual-event-1-scaled-H6FpHd.tmp_.jpg
END:VEVENT
BEGIN:VEVENT
DTSTART;VALUE=DATE:20220320
DTEND;VALUE=DATE:20220323
DTSTAMP:20260422T180700
CREATED:20240327T191234Z
LAST-MODIFIED:20240410T113022Z
UID:10000225-1647734400-1647993599@actuary.eu
SUMMARY:EAA Web Session: CERA\, Module C: Processes in ERM
DESCRIPTION:This event is organised by the EAA.
URL:https://actuary.eu/event/eaa-web-session-cera-module-c-processes-in-erm-2/
CATEGORIES:EAA
ATTACH;FMTTYPE=image/jpeg:https://actuary.eu/wp-content/uploads/2024/03/virtual-event-1-scaled-H6FpHd.tmp_.jpg
END:VEVENT
BEGIN:VEVENT
DTSTART;VALUE=DATE:20220322
DTEND;VALUE=DATE:20220325
DTSTAMP:20260422T180700
CREATED:20240327T191220Z
LAST-MODIFIED:20240410T113035Z
UID:10000223-1647907200-1648166399@actuary.eu
SUMMARY:EAA Web Session: CERA\, Module D: ERM – Economic Capital
DESCRIPTION:Organised by the EAA – European Actuarial Academy GmbH.
URL:https://actuary.eu/event/eaa-web-session-cera-module-d-erm-economic-capital-2/
CATEGORIES:EAA
ATTACH;FMTTYPE=image/jpeg:https://actuary.eu/wp-content/uploads/2024/03/virtual-event-1-scaled-H6FpHd.tmp_.jpg
END:VEVENT
BEGIN:VEVENT
DTSTART;TZID=Europe/Amsterdam:20220328T073000
DTEND;TZID=Europe/Amsterdam:20220331T110000
DTSTAMP:20260422T180700
CREATED:20240327T191219Z
LAST-MODIFIED:20240410T113041Z
UID:10000220-1648452600-1648724400@actuary.eu
SUMMARY:EAA Web Sessions: Communication for Actuaries
DESCRIPTION:Organised by the EAA – European Actuarial Academy GmbH.
URL:https://actuary.eu/event/eaa-web-sessions-communication-for-actuaries/
CATEGORIES:EAA
ATTACH;FMTTYPE=image/jpeg:https://actuary.eu/wp-content/uploads/2024/03/virtual-event-1-scaled-H6FpHd.tmp_.jpg
END:VEVENT
END:VCALENDAR