BEGIN:VCALENDAR
VERSION:2.0
PRODID:-//Actuarial Association of Europe - ECPv6.15.17.1//NONSGML v1.0//EN
CALSCALE:GREGORIAN
METHOD:PUBLISH
X-WR-CALNAME:Actuarial Association of Europe
X-ORIGINAL-URL:https://actuary.eu
X-WR-CALDESC:Events for Actuarial Association of Europe
REFRESH-INTERVAL;VALUE=DURATION:PT1H
X-Robots-Tag:noindex
X-PUBLISHED-TTL:PT1H
BEGIN:VTIMEZONE
TZID:Europe/Amsterdam
BEGIN:DAYLIGHT
TZOFFSETFROM:+0100
TZOFFSETTO:+0200
TZNAME:CEST
DTSTART:20210328T010000
END:DAYLIGHT
BEGIN:STANDARD
TZOFFSETFROM:+0200
TZOFFSETTO:+0100
TZNAME:CET
DTSTART:20211031T010000
END:STANDARD
BEGIN:DAYLIGHT
TZOFFSETFROM:+0100
TZOFFSETTO:+0200
TZNAME:CEST
DTSTART:20220327T010000
END:DAYLIGHT
BEGIN:STANDARD
TZOFFSETFROM:+0200
TZOFFSETTO:+0100
TZNAME:CET
DTSTART:20221030T010000
END:STANDARD
BEGIN:DAYLIGHT
TZOFFSETFROM:+0100
TZOFFSETTO:+0200
TZNAME:CEST
DTSTART:20230326T010000
END:DAYLIGHT
BEGIN:STANDARD
TZOFFSETFROM:+0200
TZOFFSETTO:+0100
TZNAME:CET
DTSTART:20231029T010000
END:STANDARD
END:VTIMEZONE
BEGIN:VEVENT
DTSTART;TZID=Europe/Amsterdam:20220401T073000
DTEND;TZID=Europe/Amsterdam:20220401T123000
DTSTAMP:20260422T160102
CREATED:20240327T191220Z
LAST-MODIFIED:20240410T113029Z
UID:10000224-1648798200-1648816200@actuary.eu
SUMMARY:EAA Web Session: Machine Learning and Anomaly Detection
DESCRIPTION:Organised by the EAA – European Actuarial Academy GmbH.
URL:https://actuary.eu/event/eaa-web-session-machine-learning-and-anomaly-detection/
CATEGORIES:EAA
ATTACH;FMTTYPE=image/jpeg:https://actuary.eu/wp-content/uploads/2024/03/virtual-event-1-scaled-H6FpHd.tmp_.jpg
END:VEVENT
BEGIN:VEVENT
DTSTART;TZID=Europe/Amsterdam:20220405T070000
DTEND;TZID=Europe/Amsterdam:20220405T103000
DTSTAMP:20260422T160102
CREATED:20240327T191234Z
LAST-MODIFIED:20240410T113013Z
UID:10000227-1649142000-1649154600@actuary.eu
SUMMARY:EAA Web Session: Reinsurance under IFRS17 for Life & Health
DESCRIPTION:Organised by the EAA – European Actuarial Academy GmbH.
URL:https://actuary.eu/event/eaa-web-session-reinsurance-under-ifrs17-for-life-health/
CATEGORIES:EAA
ATTACH;FMTTYPE=image/jpeg:https://actuary.eu/wp-content/uploads/2024/03/virtual-event-1-scaled-H6FpHd.tmp_.jpg
END:VEVENT
END:VCALENDAR