BEGIN:VCALENDAR
VERSION:2.0
PRODID:-//Actuarial Association of Europe - ECPv6.15.17.1//NONSGML v1.0//EN
CALSCALE:GREGORIAN
METHOD:PUBLISH
X-ORIGINAL-URL:https://actuary.eu
X-WR-CALDESC:Events for Actuarial Association of Europe
REFRESH-INTERVAL;VALUE=DURATION:PT1H
X-Robots-Tag:noindex
X-PUBLISHED-TTL:PT1H
BEGIN:VTIMEZONE
TZID:UTC
BEGIN:STANDARD
TZOFFSETFROM:+0000
TZOFFSETTO:+0000
TZNAME:UTC
DTSTART:20250101T000000
END:STANDARD
END:VTIMEZONE
BEGIN:VEVENT
DTSTART;TZID=UTC:20261005T093000
DTEND;TZID=UTC:20261007T133000
DTSTAMP:20260419T153310
CREATED:20260325T152850Z
LAST-MODIFIED:20260325T152850Z
UID:10000560-1791192600-1791379800@actuary.eu
SUMMARY:EAA Web Session: 'Climate Change Scenarios: Application\, Evolution\, and Reporting'
DESCRIPTION:Organised by the EAA – European Actuarial Academy GmbH
URL:https://actuary.eu/event/eaa-web-session-climate-change-scenarios-application-evolution-and-reporting-2/
LOCATION:Virtual
CATEGORIES:EAA
ATTACH;FMTTYPE=image/jpeg:https://actuary.eu/wp-content/uploads/2020/06/virtual-event-1-scaled-e1728986458126.jpg
ORGANIZER;CN="EAA":MAILTO:contact@actuarial-academy.com
END:VEVENT
BEGIN:VEVENT
DTSTART;VALUE=DATE:20261005
DTEND;VALUE=DATE:20261008
DTSTAMP:20260419T153310
CREATED:20260325T153442Z
LAST-MODIFIED:20260325T153442Z
UID:10000562-1791192600-1791379800@actuary.eu
SUMMARY:EAA Web Session: 'From Deep Learning to Transformers: Foundations of Modern LLMs'
DESCRIPTION:Organised by the EAA – European Actuarial Academy GmbH
URL:https://actuary.eu/event/eaa-web-session-climate-change-scenarios-application-evolution-and-reporting-3/
LOCATION:Virtual
CATEGORIES:EAA
ATTACH;FMTTYPE=image/jpeg:https://actuary.eu/wp-content/uploads/2020/06/virtual-event-1-scaled-e1728986458126.jpg
ORGANIZER;CN="EAA":MAILTO:contact@actuarial-academy.com
END:VEVENT
BEGIN:VEVENT
DTSTART;VALUE=DATE:20261005
DTEND;VALUE=DATE:20261008
DTSTAMP:20260419T153310
CREATED:20260416T130416Z
LAST-MODIFIED:20260416T130416Z
UID:10000565-1791192600-1791379800@actuary.eu
SUMMARY:EAA Seminar 'Advanced Applications of Generative AI in Actuarial Science' in Vilnius
DESCRIPTION:Organised by the EAA – European Actuarial Academy GmbH in cooperation with the Lietuvos Aktuarų Draugija. \n 
URL:https://actuary.eu/event/eaa-seminar-advanced-applications-of-generative-ai-in-actuarial-science-in-vilnius/
LOCATION:Vilnius\, Lithuania
CATEGORIES:EAA
ATTACH;FMTTYPE=image/jpeg:https://actuary.eu/wp-content/uploads/2020/06/virtual-event-1-scaled-e1728986458126.jpg
ORGANIZER;CN="EAA":MAILTO:contact@actuarial-academy.com
END:VEVENT
BEGIN:VEVENT
DTSTART;TZID=UTC:20261008T100000
DTEND;TZID=UTC:20261008T120000
DTSTAMP:20260419T153311
CREATED:20260327T142249Z
LAST-MODIFIED:20260327T142249Z
UID:10000563-1791453600-1791460800@actuary.eu
SUMMARY:EAA Web Session: 'Calculation of Life Insurance Products by Means of Markov Chains'
DESCRIPTION:Organised by the EAA – European Actuarial Academy GmbH
URL:https://actuary.eu/event/eaa-web-session-calculation-of-life-insurance-products-by-means-of-markov-chains-4/
LOCATION:Virtual
CATEGORIES:EAA
ATTACH;FMTTYPE=image/jpeg:https://actuary.eu/wp-content/uploads/2020/06/virtual-event-1-scaled-e1728986458126.jpg
ORGANIZER;CN="EAA":MAILTO:contact@actuarial-academy.com
END:VEVENT
END:VCALENDAR